BEGIN:VCALENDAR
VERSION:2.0
PRODID:icalendar-ruby
CALSCALE:GREGORIAN
METHOD:PUBLISH
BEGIN:VTIMEZONE
TZID:America/Los_Angeles
BEGIN:DAYLIGHT
DTSTART:20130310T030000
TZOFFSETFROM:-0800
TZOFFSETTO:-0700
RRULE:FREQ=YEARLY;BYDAY=2SU;BYMONTH=3
TZNAME:PDT
END:DAYLIGHT
BEGIN:STANDARD
DTSTART:20131103T010000
TZOFFSETFROM:-0700
TZOFFSETTO:-0800
RRULE:FREQ=YEARLY;BYDAY=1SU;BYMONTH=11
TZNAME:PST
END:STANDARD
END:VTIMEZONE
BEGIN:VEVENT
DTSTAMP:20260422T145915Z
UID:71cb2fa6-0c53-4009-8eb8-bc3ee77d2e9d
DTSTART;TZID=America/Los_Angeles:20130919T070000
DTEND;TZID=America/Los_Angeles:20131219T230000
DESCRIPTION:
LOCATION:Rio de Janeiro\, State of Rio de Janeiro\, Brazil
SUMMARY:Metallica Rock in Rio Brazil 2013
URL:http://demo.hiveflare.com/events/metallica-rock-in-rio-brazil-2013
END:VEVENT
END:VCALENDAR
